BEGIN:VCALENDAR
VERSION:2.0
PRODID:-//eventon.com NONSGML v1.0//EN
CALSCALE:GREGORIAN
METHOD:PUBLISH
BEGIN:VEVENT
UID:69ec0f0892e93
DTSTAMP:20260425T004704Z
DTSTART:20220512T090000Z
DTEND:20220512T102500Z
LOCATION:
SUMMARY:Webinar: Scaling Up Green Retrofits in Central and Eastern European Cities
DESCRIPTION:Moderation: Anita Blessing / Joost Nieuwenhuijzen\,  European F
 ederation for Living (EFL) This webinar\,  curated by EFL member and partne
 r The Housing Initiative for Eastern Europe (IWO) and part of a long-term s
 eries of EFL webinars on changing topics\,  addresses the challenge of refu
 rbishing the housing stock in Central and Eastern[..]\nhttps://ef-l.eu/even
 ts/webinar-scaling-up-green-retrofits-in-central-and-eastern-european-citie
 s/
URL:https://ef-l.eu/events/webinar-scaling-up-green-retrofits-in-central-and-eastern-european-cities/
END:VEVENT
END:VCALENDAR