BEGIN:VCALENDAR
VERSION:2.0
PRODID:-//eventon.com NONSGML v1.0//EN
CALSCALE:GREGORIAN
METHOD:PUBLISH
BEGIN:VEVENT
UID:69e7505382af1
DTSTAMP:20260421T102419Z
DTSTART:20230510T080000Z
DTEND:20230512T120000Z
LOCATION:Paris Habitat 21 bis Rue Claude Bernard
SUMMARY:EFL Spring Conference Paris
DESCRIPTION:Please find HERE the agenda. Registration for the Conference: c
 lick HERE Registration for Workshops: click HERE\nhttps://ef-l.eu/events/ef
 l-spring-conference-paris/
URL:https://ef-l.eu/events/efl-spring-conference-paris/
END:VEVENT
END:VCALENDAR