BEGIN:VCALENDAR
VERSION:2.0
PRODID:-//eventon.com NONSGML v1.0//EN
CALSCALE:GREGORIAN
METHOD:PUBLISH
BEGIN:VEVENT
UID:69e4efb58a823
DTSTAMP:20260419T150733Z
DTSTART:20261008T070000Z
DTEND:20261008T150000Z
LOCATION:
SUMMARY:Topic Group Finance & Investments in Paris
DESCRIPTION:Morning session – 9:00AM – 1:00PM Welcome by the hosts: Vil
 ogia and Polylogis Keynote speaker: Barbara Steenbergen – International U
 nion of Tenants (IUT) (confirmed) Macro-economic presentation (global/Europ
 e) Social and affordable housing in Europe going forward : the perspective 
 of a rating agency (Invitation to Fitch) Break Presentation by EIB (tbc)[..
 ]\nhttps://ef-l.eu/events/topic-group-finance-investments-in-paris/
URL:https://ef-l.eu/events/topic-group-finance-investments-in-paris/
END:VEVENT
END:VCALENDAR