BEGIN:VCALENDAR
VERSION:2.0
PRODID:-//eventon.com NONSGML v1.0//EN
CALSCALE:GREGORIAN
METHOD:PUBLISH
BEGIN:VEVENT
UID:69e612a116a61
DTSTAMP:20260420T114849Z
DTSTART:20260603T110000Z
DTEND:20260603T150000Z
LOCATION:
SUMMARY:Topic Group Social Housing Rotterdam
DESCRIPTION:Please find HERE the agenda of the Topic Group Social Housing t
 hat takes place in Rotterdam at the headoffices of Ortect Finance\,  Boompj
 es 40 in Rotterdam. The meeting takes place from 13.00-17.00 CET.\nhttps://
 ef-l.eu/events/topic-group-social-housing-rotterdam/
URL:https://ef-l.eu/events/topic-group-social-housing-rotterdam/
END:VEVENT
END:VCALENDAR