BEGIN:VCALENDAR
VERSION:2.0
PRODID:-//eventon.com NONSGML v1.0//EN
CALSCALE:GREGORIAN
METHOD:PUBLISH
BEGIN:VEVENT
UID:69e612ac519dc
DTSTAMP:20260420T114900Z
DTSTART:20260603T090000Z
DTEND:20260603T150000Z
LOCATION:
SUMMARY:TG Age Friendly Living "Beyond one model: Housing for different lives"
DESCRIPTION:The meeting takes place from 13.00-17.00 CET at the premises of
  Ortec Finance\,  Boompjes 40\,  Rotterdam. The meeting is chaired by Jaana
  Vanhatalo and Steve Loveland. More info will follow. Beyond one model: Hou
 sing for different lives This face-to-face meeting of the Age-Friendly Livi
 ng topic group explores how housing and[..]\nhttps://ef-l.eu/events/topic-g
 roup-age-friendly-living-2/
URL:https://ef-l.eu/events/topic-group-age-friendly-living-2/
END:VEVENT
END:VCALENDAR