BEGIN:VCALENDAR
VERSION:2.0
PRODID:-//eventon.com NONSGML v1.0//EN
CALSCALE:GREGORIAN
METHOD:PUBLISH
BEGIN:VEVENT
UID:69e868ef42272
DTSTAMP:20260422T062135Z
DTSTART:20260507T090000Z
DTEND:20260507T094500Z
LOCATION:https://teams.microsoft.com/meet/31590502763504?p=tXbw1rumCH3r7oDODi
SUMMARY:Webinar EFL Benchmark
DESCRIPTION:Reliable data and meaningful comparison are becoming increasing
 ly important for housing organisations across Europe. In this webinar\,  EF
 L will introduce the new European Federation for Living Benchmark: a practi
 cal initiative designed to help members gain better insight into portfolio 
 performance\,  sustainability progress\,  and strategic challenges through 
 cross-European comparison. The webinar[..]\nhttps://ef-l.eu/events/webinar-
 efl-benchmark/var/event_access
URL:https://ef-l.eu/events/webinar-efl-benchmark/var/event_access
END:VEVENT
END:VCALENDAR